BEGIN:VCALENDAR
VERSION:2.0
PRODID:-//Central Linz - ECPv6.15.2//NONSGML v1.0//EN
CALSCALE:GREGORIAN
METHOD:PUBLISH
X-WR-CALNAME:Central Linz
X-ORIGINAL-URL:https://www.centrallinz.at
X-WR-CALDESC:Veranstaltungen für Central Linz
REFRESH-INTERVAL;VALUE=DURATION:PT1H
X-Robots-Tag:noindex
X-PUBLISHED-TTL:PT1H
BEGIN:VTIMEZONE
TZID:Europe/Berlin
BEGIN:DAYLIGHT
TZOFFSETFROM:+0100
TZOFFSETTO:+0200
TZNAME:CEST
DTSTART:20260329T010000
END:DAYLIGHT
BEGIN:STANDARD
TZOFFSETFROM:+0200
TZOFFSETTO:+0100
TZNAME:CET
DTSTART:20261025T010000
END:STANDARD
END:VTIMEZONE
BEGIN:VEVENT
DTSTART;TZID=Europe/Berlin:20260423T190000
DTEND;TZID=Europe/Berlin:20260423T220000
DTSTAMP:20260423T162826
CREATED:20260227T105906Z
LAST-MODIFIED:20260227T105951Z
UID:3560-1776970800-1776981600@www.centrallinz.at
SUMMARY:Liedermacherzeit 2026
DESCRIPTION:„LIEDERMACHERZEIT!“ 2026 \n– ist Titel des Programmes und Name des Ensembles zugleich! \n  \n23.4.2026 / 19:30h \nEinlass 19:00h \n  \nErinnerungen an eine musikalisch-literarische Ära in den späten 1960er und beginnenden 70er Jahren aufwärts werden wach\, in der Solo-Künstler und wenige Künstlerinnen spartanisch ihre selbst getexteten\, -komponierten und -vorgetragenen Lieder der Öffentlichkeit zu Gehör brachten – mit der tiefen\, hehren und ehrbaren Überzeugung\, die Welt entscheidend verbessern\, vielleicht sogar retten zu können! \nDie Inhalte meist politischer und/oder gesellschaftskritischer Natur als Ausdruck ihrer Proteste gegen Staatsgewalt\, Machtmissbrauch\, Krieg\, Atomkraft\, Überwachung\, Zensur\, Manipulation und so weiter und so fort! \n50 Jahre später ist es noch immer oder schon wieder Zeit für diese Lieder\, denn naturgemäß haben sich unsere Bedürfnisse und Sehnsüchte\, aber auch Kritik und Vorwürfe an bestimmtem\, gesellschaftlichem und staatlichem Handeln unwesentlich verändert. Die Texte dieser Songs könnten erst gestern geschrieben worden sein! \nLyrische\, heitere\, berührende\, freche\, sozialkritische\, vor allem aber zeitlose und hoch aktuelle Texte in den Songs nationaler und internationaler Singer- und Songwriter dienen als Grundlage des literarischen Programmes des Ensembles. \nMusikalisch aufgrund der hochkarätigen Besetzung der illustren Formation sind spezielle\, charmante\, herausfordernde und spannende Interpretationen zu erwarten und garantiert! \nMit dabei auch Songs aus eigener Feder der jungen LiedermacherInnen-Gilde\, die in jedem Fall Hoffnung und Mut auf bessere Zeiten für die Zukunft machen können! Vor allem beweisen sie\, dass die Jungen viel besser und cooler sind\, als so viele glauben oder zu glauben wissen! \nLIEDERMACHERZEIT! \n  \nLine Up \nJacky Hanzhanz – Gesang/Conference \nMarcus Wall – Akustische und E- Gitarre/Violine/Gesang \nNorbert Langer – E-Piano/Keyboards/Gesang \nImelda Stoica – E-Bass/Gesang \nAndreas Szelegowitz – Schlagzeug/Gesang \n  \nTickets: VVK 25€ (nur online) / AK 28€ \nHier gehts zu den Tickets: LIEDERMACHERZEIT 2026 | KUPFticket \nAbendkasse ab 19:00h vor Ort. \nFreie Platzwahl.
URL:https://www.centrallinz.at/event/liedermacherzeit-2026/
LOCATION:Central Linz\, Landstraße 36\, Linz\, Oberösterreich\, 4020\, Österreich
CATEGORIES:Konzert
ATTACH;FMTTYPE=image/jpeg:https://www.centrallinz.at/wp-content/uploads/Liedermacherzeit-scaled.jpg
END:VEVENT
END:VCALENDAR